{
 "currentVersion": 10.91,
 "serviceDescription": "Raster surface showing slopes (percent rise) for the Greene and Neville Tracts within the Historic Rogers Road Area.",
 "name": "RogersRoadSAP/RogersRoad_GreeneNevilleSlopes",
 "description": "Raster surface showing slopes (percent rise) for the Greene and Neville Tracts within the Historic Rogers Road Area.",
 "extent": {
  "xmin": -8802932.161247207,
  "ymin": 4294563.635156683,
  "xmax": -8801852.161247207,
  "ymax": 4295783.635156683,
  "spatialReference": {
   "wkid": 102100,
   "latestWkid": 3857
  }
 },
 "initialExtent": {
  "xmin": -8802932.161247207,
  "ymin": 4294563.635156683,
  "xmax": -8801852.161247207,
  "ymax": 4295783.635156683,
  "spatialReference": {
   "wkid": 102100,
   "latestWkid": 3857
  }
 },
 "fullExtent": {
  "xmin": -8802932.161247207,
  "ymin": 4294563.635156683,
  "xmax": -8801852.161247207,
  "ymax": 4295783.635156683,
  "spatialReference": {
   "wkid": 102100,
   "latestWkid": 3857
  }
 },
 "pixelSizeX": 20,
 "pixelSizeY": 20,
 "bandCount": 1,
 "pixelType": "F32",
 "minPixelSize": 0,
 "maxPixelSize": 0,
 "copyrightText": "Office of Planning and Sustainability, Town of Chapel Hill",
 "serviceDataType": "esriImageServiceDataTypeGeneric",
 "minValues": [
  0.11206422746181488
 ],
 "maxValues": [
  33.03290939331055
 ],
 "meanValues": [
  6.324415325369911
 ],
 "stdvValues": [
  3.325908468868156
 ],
 "objectIdField": "",
 "fields": [],
 "capabilities": "Mensuration,Image,Metadata",
 "defaultMosaicMethod": "Center",
 "allowedMosaicMethods": "",
 "sortField": "",
 "sortValue": null,
 "sortAscending": true,
 "mosaicOperator": "First",
 "defaultCompressionQuality": 75,
 "defaultResamplingMethod": "Bilinear",
 "maxImageHeight": 4100,
 "maxImageWidth": 15000,
 "allowRasterFunction": true,
 "rasterFunctionInfos": [
  {
   "name": "None",
   "description": "A No-Op Function.",
   "help": ""
  },
  {
   "name": "SlopeClasses",
   "description": "A raster function template.",
   "help": ""
  }
 ],
 "rasterTypeInfos": [
  {
   "name": "Raster Dataset",
   "description": "Supports all ArcGIS Raster Datasets",
   "help": ""
  }
 ],
 "mensurationCapabilities": "Basic",
 "hasHistograms": true,
 "hasColormap": false,
 "hasRasterAttributeTable": false,
 "minScale": 0,
 "maxScale": 0,
 "exportTilesAllowed": false,
 "hasMultidimensions": false,
 "supportsStatistics": false,
 "supportsAdvancedQueries": false,
 "editFieldsInfo": null,
 "ownershipBasedAccessControlForRasters": null,
 "allowComputeTiePoints": false,
 "useStandardizedQueries": true,
 "advancedQueryCapabilities": {
  "useStandardizedQueries": true,
  "supportsStatistics": false,
  "supportsOrderBy": false,
  "supportsDistinct": false,
  "supportsPagination": false
 },
 "spatialReference": {
  "wkid": 102100,
  "latestWkid": 3857
 }
}
