View In:
ArcGIS JavaScript
ArcGIS Online map viewer
ArcGIS Earth
ArcMap
View Footprint In:
ArcGIS Online map viewer
Service Description: Aerial image of the Chapel Hill / Carrboro area flown as part of the NC statewide orthoimagery program in 2013. Ortho images loaded as a raster mosaic to GISAPP in WGS84.
Name: ImageServices/AerialPhoto2013
Description: Aerial image of the Chapel Hill / Carrboro area flown as part of the NC statewide orthoimagery program in 2013. Ortho images loaded as a raster mosaic to GISAPP in WGS84.
Single Fused Map Cache: false
Extent:
XMin: -8809294.007
YMin: 4280257.321437086
XMax: -8788594.845201675
YMax: 4301038.779400002
Spatial Reference: 102100
(3857)
LatestVCSWkid(0)
Initial Extent:
XMin: -8809294.007
YMin: 4280257.321437086
XMax: -8788594.845201675
YMax: 4301038.779400002
Spatial Reference: 102100
(3857)
LatestVCSWkid(0)
Full Extent:
XMin: -8809294.007
YMin: 4280257.321437086
XMax: -8788594.845201675
YMax: 4301038.779400002
Spatial Reference: 102100
(3857)
LatestVCSWkid(0)
Pixel Size X: 0.15240030480061578
Pixel Size Y: 0.15240030480061184
Band Count: 3
Pixel Type: U8
RasterFunction Infos: {"rasterFunctionInfos": [{
"name": "None",
"description": "Make a Raster or Raster Dataset into a Function Raster Dataset.",
"help": ""
}]}
Mensuration Capabilities:
Has Histograms: true
Has Colormap: false
Has Multi Dimensions : false
Rendering Rule:
Min Scale: 0
Max Scale: 0
Copyright Text: State of North Carolina
Service Data Type: esriImageServiceDataTypeRGB
Min Values: 0.13366336633663367, 0.14646464646464652, 0.23142857142857143
Max Values: 254.86633663366337, 254.85353535353536, 254.76857142857142
Mean Values: 147.96495049504986, 147.1541414141414, 145.59828571428588
Standard Deviation Values: 38.38321604235378, 35.59351601755601, 34.056026609087354
Object ID Field: OBJECTID
Fields:
-
OBJECTID
(
type: esriFieldTypeOID, alias: OBJECTID
)
-
Shape
(
type: esriFieldTypeGeometry, alias: Shape
)
-
Name
(
type: esriFieldTypeString, alias: Name, length: 200
)
-
MinPS
(
type: esriFieldTypeDouble, alias: MinPS
)
-
MaxPS
(
type: esriFieldTypeDouble, alias: MaxPS
)
-
LowPS
(
type: esriFieldTypeDouble, alias: LowPS
)
-
HighPS
(
type: esriFieldTypeDouble, alias: HighPS
)
-
Category
(
type: esriFieldTypeInteger, alias: Category
, Coded Values:
[0: Unknown]
, [1: Primary]
, [2: Overview]
, ...6 more...
)
-
Tag
(
type: esriFieldTypeString, alias: Tag, length: 100
)
-
GroupName
(
type: esriFieldTypeString, alias: GroupName, length: 100
)
-
ProductName
(
type: esriFieldTypeString, alias: ProductName, length: 100
)
-
CenterX
(
type: esriFieldTypeDouble, alias: CenterX
)
-
CenterY
(
type: esriFieldTypeDouble, alias: CenterY
)
-
ZOrder
(
type: esriFieldTypeInteger, alias: ZOrder
)
Default Mosaic Method: Northwest
Allowed Mosaic Methods: NorthWest,Center,LockRaster,ByAttribute,Nadir,Viewpoint,Seamline,None
SortField:
SortValue: null
Mosaic Operator: First
Default Compression Quality: 75
Default Resampling Method: Bilinear
Max Record Count: 1000
Max Image Height: 4100
Max Image Width: 15000
Max Download Image Count: 20
Max Mosaic Image Count: 42
Allow Raster Function: true
Allow Copy: true
Allow Analysis: true
Allow Compute TiePoints: false
Supports Statistics: true
Supports Advanced Queries: true
Use StandardizedQueries: true
Raster Type Infos:
Name: Raster Dataset
Description: Supports all ArcGIS Raster Datasets
Help:
Has Raster Attribute Table: false
Edit Fields Info: null
Ownership Based AccessControl For Rasters: null
Child Resources:
Info
Histograms
Statistics
Key Properties
Legend
Raster Function Infos
Supported Operations:
Export Image
Query
Identify
Download Rasters
Compute Histograms
Compute Statistics Histograms
Get Samples
Compute Class Statistics
Query Boundary
Compute Pixel Location
Compute Angles
Validate
Project