View In:
ArcGIS JavaScript
ArcGIS Online map viewer
ArcGIS Earth
ArcMap
View Footprint In:
ArcGIS Online map viewer
Service Description: Raster surface showing slopes (percent rise) for the Greene and Neville Tracts within the Historic Rogers Road Area.
Name: RogersRoadSAP/RogersRoad_GreeneNevilleSlopes
Description: Raster surface showing slopes (percent rise) for the Greene and Neville Tracts within the Historic Rogers Road Area.
Single Fused Map Cache: false
Extent:
XMin: -8802932.161247207
YMin: 4294563.635156683
XMax: -8801852.161247207
YMax: 4295783.635156683
Spatial Reference: 102100
(3857)
LatestVCSWkid(0)
Initial Extent:
XMin: -8802932.161247207
YMin: 4294563.635156683
XMax: -8801852.161247207
YMax: 4295783.635156683
Spatial Reference: 102100
(3857)
LatestVCSWkid(0)
Full Extent:
XMin: -8802932.161247207
YMin: 4294563.635156683
XMax: -8801852.161247207
YMax: 4295783.635156683
Spatial Reference: 102100
(3857)
LatestVCSWkid(0)
Pixel Size X: 20.0
Pixel Size Y: 20.0
Band Count: 1
Pixel Type: F32
RasterFunction Infos: {"rasterFunctionInfos": [
{
"name": "None",
"description": "A No-Op Function.",
"help": ""
},
{
"name": "SlopeClasses",
"description": "A raster function template.",
"help": ""
}
]}
Mensuration Capabilities: Basic
Has Histograms: true
Has Colormap: false
Has Multi Dimensions : false
Rendering Rule:
Min Scale: 0
Max Scale: 0
Copyright Text: Office of Planning and Sustainability, Town of Chapel Hill
Service Data Type: esriImageServiceDataTypeGeneric
Min Values: 0.11206422746181488
Max Values: 33.03290939331055
Mean Values: 6.324415325369911
Standard Deviation Values: 3.325908468868156
Object ID Field:
Fields:
None
Default Mosaic Method: Center
Allowed Mosaic Methods:
SortField:
SortValue: null
Mosaic Operator: First
Default Compression Quality: 75
Default Resampling Method: Bilinear
Max Record Count: null
Max Image Height: 4100
Max Image Width: 15000
Max Download Image Count: null
Max Mosaic Image Count: null
Allow Raster Function: true
Allow Copy: null
Allow Analysis: null
Allow Compute TiePoints: false
Supports Statistics: false
Supports Advanced Queries: false
Use StandardizedQueries: true
Raster Type Infos:
Name: Raster Dataset
Description: Supports all ArcGIS Raster Datasets
Help:
Has Raster Attribute Table: false
Edit Fields Info: null
Ownership Based AccessControl For Rasters: null
Child Resources:
Info
Histograms
Key Properties
Legend
Raster Function Infos
Supported Operations:
Export Image
Identify
Measure
Compute Histograms
Compute Statistics Histograms
Get Samples
Compute Class Statistics
Query Boundary
Compute Pixel Location
Compute Angles
Validate
Project